BEGIN:VCALENDAR
VERSION:2.0
PRODID:-//Trowbridge Chamber of Commerce - ECPv6.15.20//NONSGML v1.0//EN
CALSCALE:GREGORIAN
METHOD:PUBLISH
X-WR-CALNAME:Trowbridge Chamber of Commerce
X-ORIGINAL-URL:https://trowbridgechamber.com
X-WR-CALDESC:Events for Trowbridge Chamber of Commerce
REFRESH-INTERVAL;VALUE=DURATION:PT1H
X-Robots-Tag:noindex
X-PUBLISHED-TTL:PT1H
BEGIN:VTIMEZONE
TZID:UTC
BEGIN:STANDARD
TZOFFSETFROM:+0000
TZOFFSETTO:+0000
TZNAME:UTC
DTSTART:20230101T000000
END:STANDARD
END:VTIMEZONE
BEGIN:VEVENT
DTSTART;TZID=UTC:20240629T100000
DTEND;TZID=UTC:20240629T160000
DTSTAMP:20260425T163823
CREATED:20240510T175145Z
LAST-MODIFIED:20240510T175145Z
UID:10617-1719655200-1719676800@trowbridgechamber.com
SUMMARY:Howard Travel - North America event
DESCRIPTION:Join independent Trowbridge travel agent Howard Travel and Up & Away Travel to find out more about USA and Canada travel experiences\, from 10am-4pm on Saturday 29th June. \nFrom Rocky Mountaineer to Alaska Cruises\, Florida family holidays\, Route 66 and city breaks\, pop in to Howard Travel to have a chat with the experts. \nDrinks and nibbles are provided\, plus a kids’ colouring competition for children and a chance to win prizes. \nTo reserve a place\, phone 01225 777227 or email experts@howardtravel.com. \nAddress: Howard Travel\, 12-13 Church Walk\, Trowbridge BA14 8DX
URL:https://trowbridgechamber.com/event/howard-travel-north-america-event/
LOCATION:Howard Travel\, 12-13 Church Walk\, Trowbridge\, BA14 8DX\, United Kingdom
ATTACH;FMTTYPE=image/png:https://trowbridgechamber.com/wp-content/uploads/2024/05/Howards-Travel-N-America-cropped.png
ORGANIZER;CN="Howard Travel":MAILTO:gemma@howardtravel.com
END:VEVENT
END:VCALENDAR