BEGIN:VCALENDAR
VERSION:2.0
PRODID:-//Trowbridge Chamber of Commerce - ECPv6.15.20//NONSGML v1.0//EN
CALSCALE:GREGORIAN
METHOD:PUBLISH
X-ORIGINAL-URL:https://trowbridgechamber.com
X-WR-CALDESC:Events for Trowbridge Chamber of Commerce
REFRESH-INTERVAL;VALUE=DURATION:PT1H
X-Robots-Tag:noindex
X-PUBLISHED-TTL:PT1H
BEGIN:VTIMEZONE
TZID:UTC
BEGIN:STANDARD
TZOFFSETFROM:+0000
TZOFFSETTO:+0000
TZNAME:UTC
DTSTART:20250101T000000
END:STANDARD
END:VTIMEZONE
BEGIN:VEVENT
DTSTART;TZID=UTC:20260424T083000
DTEND;TZID=UTC:20260424T100000
DTSTAMP:20260422T151818
CREATED:20260213T212232Z
LAST-MODIFIED:20260421T183207Z
UID:13776-1777019400-1777024800@trowbridgechamber.com
SUMMARY:Trowbridge Chamber Networking Breakfast - Concours House Supercars
DESCRIPTION:You are invited to a Trowbridge Chamber networking breakfast at the new Concours House supercar venue in Bradford on Avon from 08:30-10:00 on Friday 24th April. \nThe former supercar barn has been renovated with wood panelled walls\, leather sofas and new meeting and dining rooms\, and is home to a fabulous collection of supercars. \nCatering is by Homewood Bath and breakfast tickets are £20 including breakfast baps\, pastries and tea/coffee. \nBOOK YOUR BREAKFAST HERE\nPARKING – plenty of parking on site \nDIRECTIONS – Drive through Bradford on Avon\, up Silver Street towards Holt. Continue over the roundabout and Concours House is in a group of large barn buildings on your right. It’s easy to over-shoot the entrance (behind a low stone wall)\, so keep a look out as you approach. \nWe look forward to seeing you then!
URL:https://trowbridgechamber.com/event/trowbridge-chamber-networking-breakfast-concours-house/
LOCATION:Concourse House\, Kingston Farm Court\, Bradford on Avon\, BA15 1TS
ATTACH;FMTTYPE=image/jpeg:https://trowbridgechamber.com/wp-content/uploads/2026/02/Concours-House-barn-with-text.jpg
ORGANIZER;CN="Trowbridge Chamber":MAILTO:info@trowbridgechamber.com
END:VEVENT
BEGIN:VEVENT
DTSTART;TZID=UTC:20260616T180000
DTEND;TZID=UTC:20260616T200000
DTSTAMP:20260422T151818
CREATED:20260329T150706Z
LAST-MODIFIED:20260329T164322Z
UID:14136-1781632800-1781640000@trowbridgechamber.com
SUMMARY:Early Summer Drinks Reception at The Green\, Wingfield
DESCRIPTION:You are invited to an early summer drinks reception in the grounds of the beautiful The Green boutique B&B in Wingfield\, near Trowbridge/Bradford on Avon\, from 6-8pm on Tuesday 16th June. \nThe Green is a former 18th century mill owner’s house and opened in November 2025 as a luxury bed & breakfast and events venue. \nSet in 7 acres of woodland and gardens\, owners Claire\, Aurelius and Julian\, who lovingly restored the building and are new Trowbridge Chamber members\, have invited fellow members and guests to drinks and nibbles on the terrace (or in the drawing room in case of rain) with a short talk from Julian about the history of the house and the renovation project. \nTickets are £10 to include a welcome drink and nibbles\, with further drinks available to purchase from the bar. \nThe reception will be from 6-8pm\, but you are welcome to arrive from 5.30pm for a stroll around the lovely grounds. \nParking is limited\, so please share where possible. \nPLEASE BOOK YOUR TICKETS HERE \n       \n     \n      \n 
URL:https://trowbridgechamber.com/event/early-summer-drinks-reception-at-the-green-wingfield/
LOCATION:The Green\, Trowbridge Road\, Wingfield\, Trowbridge\, Wiltshire\, BA14 9LE\, United Kingdom
ATTACH;FMTTYPE=image/jpeg:https://trowbridgechamber.com/wp-content/uploads/2026/03/house-grounds.jpg
ORGANIZER;CN="Trowbridge Chamber":MAILTO:info@trowbridgechamber.com
END:VEVENT
BEGIN:VEVENT
DTSTART;TZID=UTC:20261008T093000
DTEND;TZID=UTC:20261008T170000
DTSTAMP:20260422T151818
CREATED:20260321T150917Z
LAST-MODIFIED:20260421T221912Z
UID:13936-1791451800-1791478800@trowbridgechamber.com
SUMMARY:West Wiltshire Business Expo - 8th October 2026
DESCRIPTION:Welcome to the West Wiltshire Business Expo\, the region’s exciting new flagship event for ambitious businesses\, entrepreneurs\, investors and innovators\, taking place on Thursday 8th October 2026. \nBrought to you by the Trowbridge Chamber\, in association with the Federation of Small Businesses (FSB)\, this focussed one day Business Expo is designed to inspire growth\, spark collaboration and showcase opportunity. \nNicky Kildunne from the FSB said:  “The Federation of Small Businesses is proud to partner with the West Wiltshire Business Expo because supporting small businesses is at the heart of everything we do. This event brings together the innovation\, ambition and community spirit that powers Wiltshire’s economy\, and we’re delighted to help create opportunities for local entrepreneurs to connect\, learn and grow.” \nPlease book your free ticket here. \nTaking place at The Civic in Trowbridge\, the County Town of Wiltshire\, the event will bring together industry leaders\, emerging talent and forward thinking organisations shaping Wiltshire’s economic future. \nWhether you are scaling your business\, exploring investment\, launching a start-up\, or embracing new technology\, the West Wiltshire Business Expo offers an excellent opportunity to showcase your brand and build strong local connections. \nDOWNLOAD THE SPONSORSHIP & STAND PACKAGE BROCHURE HERE \nEXHIBITION STANDS from £245  \n \nRESERVE YOUR DISPLAY STANDS AND SPONSORSHIP PACKAGES HERE \n \nSPONSORSHIP OPPORTUNITIES INCLUDE: \n\nHeadline Sponsorship – £5\,000\nNetworking Breakfast – £1\,000\nYoung Entrepreneurs’ Hub – £1\,500\nExpo Podcast – £1\,000\nNetworking Drinks Reception – £1\,250\nKeynote Speakers & Panel Discussions – £750\n\nBespoke promotional opportunities are also available. \nRESERVE YOUR DISPLAY STANDS AND SPONSORSHIP PACKAGES HERE \n \n \n \n \n \nRESERVE YOUR DISPLAY STANDS AND SPONSORSHIP PACKAGES HERE \nFor further information or to discuss sponsorship opportunities\, please email Megan at info@trowbridgechamber.com.  \nWe look forward to hearing from you.
URL:https://trowbridgechamber.com/event/west-wiltshire-business-expo-8th-october-2026/
LOCATION:The Civic
ATTACH;FMTTYPE=image/png:https://trowbridgechamber.com/wp-content/uploads/2026/03/Business-Show-logo-FINAL-scaled.png
ORGANIZER;CN="Trowbridge Chamber":MAILTO:info@trowbridgechamber.com
END:VEVENT
END:VCALENDAR