BEGIN:VCALENDAR
VERSION:2.0
PRODID:-//Trowbridge Chamber of Commerce - ECPv6.15.20//NONSGML v1.0//EN
CALSCALE:GREGORIAN
METHOD:PUBLISH
X-ORIGINAL-URL:https://trowbridgechamber.com
X-WR-CALDESC:Events for Trowbridge Chamber of Commerce
REFRESH-INTERVAL;VALUE=DURATION:PT1H
X-Robots-Tag:noindex
X-PUBLISHED-TTL:PT1H
BEGIN:VTIMEZONE
TZID:UTC
BEGIN:STANDARD
TZOFFSETFROM:+0000
TZOFFSETTO:+0000
TZNAME:UTC
DTSTART:20250101T000000
END:STANDARD
END:VTIMEZONE
BEGIN:VEVENT
DTSTART;TZID=UTC:20260313T083000
DTEND;TZID=UTC:20260313T100000
DTSTAMP:20260422T195501
CREATED:20260130T195813Z
LAST-MODIFIED:20260216T113014Z
UID:13707-1773390600-1773396000@trowbridgechamber.com
SUMMARY:Networking Breakfast @ Old Town Hall + Cyber Security Talk
DESCRIPTION:Join us for a networking breakfast at Trowbridge Old Town Hall from 0830-1000 on 13th March\, followed by an informative talk by Wiltshire Police about keeping your business safe from cyber crime. \nEnjoy networking with like-minded professionals over pastries or a bacon/sausage brioche and unlimited tea/coffee at the Avonfield Kitchen Cafe. \nAfter breakfast\, we move to the historic Court Room where the Wiltshire Police Cyber Protect team will advise on how to build cyber resilience. The talk will include practical guidance on common cyber risks\, protection steps and the current threat landscape. They will also advise on strong passwords\, phishing prevention and safe online behaviour\, including the risk your digital footprint poses. \nWe hope you can join us. Please book your breakfast by Tuesday 10th March. \nPARKING – Nearest free parking is St Stephen’s multi-storey car park – Walk through the park to the Town Hall in Market Street. Or park in The Shires Shopping Centre car park (£1 for 2 hours) and walk through The Shires to Market Street. \nTRAIN – The Town Hall is a 10 minute walk from the train station. \nACCESS – The event will be on the ground floor of the Town Hall\, which has ramp access from Market Street. \nPLEASE BOOK YOUR BREAKFAST TICKETS HERE \n 
URL:https://trowbridgechamber.com/event/networking-breakfast-cyber-security-talk-with-wiltshire-police/
LOCATION:Trowbridge Town Hall\, Market Street\, Trowbridge\, BA148EQ\, United Kingdom
ATTACH;FMTTYPE=image/png:https://trowbridgechamber.com/wp-content/uploads/2026/01/Town-Hall-Breakfast-13-March-image-scaled.png
ORGANIZER;CN="Trowbridge Chamber":MAILTO:info@trowbridgechamber.com
END:VEVENT
END:VCALENDAR