BEGIN:VCALENDAR
VERSION:2.0
PRODID:-//Trowbridge Chamber of Commerce - ECPv6.15.20//NONSGML v1.0//EN
CALSCALE:GREGORIAN
METHOD:PUBLISH
X-ORIGINAL-URL:https://trowbridgechamber.com
X-WR-CALDESC:Events for Trowbridge Chamber of Commerce
REFRESH-INTERVAL;VALUE=DURATION:PT1H
X-Robots-Tag:noindex
X-PUBLISHED-TTL:PT1H
BEGIN:VTIMEZONE
TZID:UTC
BEGIN:STANDARD
TZOFFSETFROM:+0000
TZOFFSETTO:+0000
TZNAME:UTC
DTSTART:20250101T000000
END:STANDARD
END:VTIMEZONE
BEGIN:VEVENT
DTSTART;TZID=UTC:20260616T180000
DTEND;TZID=UTC:20260616T200000
DTSTAMP:20260422T195240
CREATED:20260329T150706Z
LAST-MODIFIED:20260329T164322Z
UID:14136-1781632800-1781640000@trowbridgechamber.com
SUMMARY:Early Summer Drinks Reception at The Green\, Wingfield
DESCRIPTION:You are invited to an early summer drinks reception in the grounds of the beautiful The Green boutique B&B in Wingfield\, near Trowbridge/Bradford on Avon\, from 6-8pm on Tuesday 16th June. \nThe Green is a former 18th century mill owner’s house and opened in November 2025 as a luxury bed & breakfast and events venue. \nSet in 7 acres of woodland and gardens\, owners Claire\, Aurelius and Julian\, who lovingly restored the building and are new Trowbridge Chamber members\, have invited fellow members and guests to drinks and nibbles on the terrace (or in the drawing room in case of rain) with a short talk from Julian about the history of the house and the renovation project. \nTickets are £10 to include a welcome drink and nibbles\, with further drinks available to purchase from the bar. \nThe reception will be from 6-8pm\, but you are welcome to arrive from 5.30pm for a stroll around the lovely grounds. \nParking is limited\, so please share where possible. \nPLEASE BOOK YOUR TICKETS HERE \n       \n     \n      \n 
URL:https://trowbridgechamber.com/event/early-summer-drinks-reception-at-the-green-wingfield/
LOCATION:The Green\, Trowbridge Road\, Wingfield\, Trowbridge\, Wiltshire\, BA14 9LE\, United Kingdom
ATTACH;FMTTYPE=image/jpeg:https://trowbridgechamber.com/wp-content/uploads/2026/03/house-grounds.jpg
ORGANIZER;CN="Trowbridge Chamber":MAILTO:info@trowbridgechamber.com
END:VEVENT
END:VCALENDAR